BEGIN:VCALENDAR
PRODID:-//eluceo/ical//2.0/EN
VERSION:2.0
CALSCALE:GREGORIAN
BEGIN:VEVENT
UID:88910d798e1e1895e40a9d45fa531e14
DTSTAMP:20260424T212129Z
SUMMARY:LOCAL JEWISH HISTORY FILM FESTIVAL DAY II
DESCRIPTION:Jewish Federation of Greater Naples\nCommunity Calendar\nhttps:
 //jewishnaples.org/calendar/local-jewish-history-film-festival-day-ii-1777
 044846\n\nLOCAL JEWISH HISTORY FILM FESTIVAL DAY II
DTSTART;TZID=America/New_York:20261105T140000
DTEND;TZID=America/New_York:20261105T160000
END:VEVENT
END:VCALENDAR
