BEGIN:VCALENDAR
PRODID:-//eluceo/ical//2.0/EN
VERSION:2.0
CALSCALE:GREGORIAN
BEGIN:VEVENT
UID:18d2e10d7015bc3e279e479fe2e5cd83
DTSTAMP:20260424T211711Z
SUMMARY:LOCAL JEWISH HISTORY FILM FESTIVAL DAY I
DESCRIPTION:Jewish Federation of Greater Naples\nCommunity Calendar\nhttps:
 //jewishnaples.org/calendar/local-jewish-history-film-festival-day-i-17770
 44686\n\nLOCAL JEWISH HISTORY FILM FESTIVAL DAY I
DTSTART;TZID=America/New_York:20261029T140000
DTEND;TZID=America/New_York:20261029T160000
END:VEVENT
END:VCALENDAR
