BEGIN:VCALENDAR
PRODID:-//eluceo/ical//2.0/EN
VERSION:2.0
CALSCALE:GREGORIAN
BEGIN:VEVENT
UID:204f6edd752b7016a6a65ff7ec06cb51
DTSTAMP:20260423T160929Z
SUMMARY:Lifelong Learning\, followed by dinner and Friday Evening Services
DESCRIPTION:Jewish Federation of Greater Naples\nCommunity Calendar\nhttps:
 //jewishnaples.org/calendar/lifelong-learning-followed-by-dinner-and-frida
 y-evening-services-1734202101\n\nDon’t miss this opportunity for learnin
 g\, fellowship\, and spiritual renewal—all in one memorable evening. We 
 look forward to seeing you there!
DTSTART;TZID=America/New_York:20250117T170000
DTEND;TZID=America/New_York:20250117T203000
END:VEVENT
END:VCALENDAR
