BEGIN:VCALENDAR
PRODID:-//eluceo/ical//2.0/EN
VERSION:2.0
CALSCALE:GREGORIAN
BEGIN:VEVENT
UID:718b6ac687dedecefda1346462173e64
DTSTAMP:20260422T182016Z
SUMMARY:Lifelong Learning Class at Naples Jewish Congregation
DESCRIPTION:Jewish Federation of Greater Naples\nCommunity Calendar\nhttps:
 //jewishnaples.org/calendar/lifelong-learning-class-at-naples-jewish-congr
 egation-1739971320\n\nThe class is followed by dinner out on the Pavilion 
 . Attendace to the dinner is by reservation  and it is $10 per person.
DTSTART;TZID=America/New_York:20250221T170000
DTEND;TZID=America/New_York:20250221T190000
END:VEVENT
END:VCALENDAR
