BEGIN:VCALENDAR
PRODID:-//eluceo/ical//2.0/EN
VERSION:2.0
CALSCALE:GREGORIAN
BEGIN:VEVENT
UID:9eedabe456c240d5504964863d7689a9
DTSTAMP:20260423T175802Z
SUMMARY:Life Long Learning taught by Rabbi Howard Herman.
DESCRIPTION:Jewish Federation of Greater Naples\nCommunity Calendar\nhttps:
 //jewishnaples.org/calendar/life-long-learning-taught-by-rabbi-howard-herm
 an-1725992620\n\nJoin us for the first Lifelong Learning class this year. 
 Be prepared for a class  both engaging and thought-provoking\, offering de
 ep insights and stimulating discussions that are sure to enrich your under
 standing and inspire your curiosity.
DTSTART;TZID=America/New_York:20241018T170000
DTEND;TZID=America/New_York:20241018T190000
END:VEVENT
END:VCALENDAR
