BEGIN:VCALENDAR
PRODID:-//eluceo/ical//2.0/EN
VERSION:2.0
CALSCALE:GREGORIAN
BEGIN:VEVENT
UID:a1db257381c2686d29f135880d7b92b5
DTSTAMP:20260423T142955Z
SUMMARY:Hol Msm Let's Speak Yiddish
DESCRIPTION:Jewish Federation of Greater Naples\nCommunity Calendar\nhttps:
 //jewishnaples.org/calendar/lets-speak-yiddish-1683859452\n\nGroup for tho
 se interested in the Yiddish language. RSVP required - limited space.
DTSTART;TZID=America/New_York:20231119T153000
DTEND;TZID=America/New_York:20231119T163000
END:VEVENT
END:VCALENDAR
