BEGIN:VCALENDAR
PRODID:-//eluceo/ical//2.0/EN
VERSION:2.0
CALSCALE:GREGORIAN
BEGIN:VEVENT
UID:1db8485331ed047dc799ffad9d5b6220
DTSTAMP:20260422T015705Z
SUMMARY:JWV Meeting Dec
DESCRIPTION:Jewish Federation of Greater Naples\nCommunity Calendar\nhttps:
 //jewishnaples.org/calendar/jwv-meeting-dec\n\nJewish War Veterans
DTSTART;TZID=America/New_York:20161218T090000
DTEND;TZID=America/New_York:20161218T090000
END:VEVENT
END:VCALENDAR
