BEGIN:VCALENDAR
PRODID:-//eluceo/ical//2.0/EN
VERSION:2.0
CALSCALE:GREGORIAN
BEGIN:VEVENT
UID:80fcd53df044160922897b7df3748ac5
DTSTAMP:20260421T175406Z
SUMMARY:JWV Feb Meeting
DESCRIPTION:Jewish Federation of Greater Naples\nCommunity Calendar\nhttps:
 //jewishnaples.org/calendar/jwv-feb-meeting\n\nJewish War Veterans
DTSTART;TZID=America/New_York:20170219T090000
DTEND;TZID=America/New_York:20170219T090000
END:VEVENT
END:VCALENDAR
