BEGIN:VCALENDAR
PRODID:-//eluceo/ical//2.0/EN
VERSION:2.0
CALSCALE:GREGORIAN
BEGIN:VEVENT
UID:409c422a5826f39f0ae0928f932144fb
DTSTAMP:20260424T043158Z
SUMMARY:JWV: Breakfast with Max Rabinovitsj\,
DESCRIPTION:Jewish Federation of Greater Naples\nCommunity Calendar\nhttps:
 //jewishnaples.org/calendar/jwv-breakfast-with-max-rabinovitsj\n\nJWV upco
 ming event:\n\n \n\nSunday\, November 13th at 10:00 A.M. Vineyards Countr
 y Club.\n\nGuest Speaker\, Max Rabinovitsj\, a distinguished and accompli
 shed speaker and Holocaust Survivor.  Max is the Artistic Director of the
  Naples Orchestra.\n\n \n\nWe will be proud to hear him speak and perform
  at our annual fund raiser event.\n\nWe look forward to a great turnout. 
  I am counting on your support. \n\n \n\nA full buffet breakfast is incl
 uded. $30.00 pre-paid.\n\nMake checks payable t...
DTSTART;TZID=America/New_York:20161113T100000
DTEND;TZID=America/New_York:20161113T100000
END:VEVENT
END:VCALENDAR
