BEGIN:VCALENDAR
PRODID:-//eluceo/ical//2.0/EN
VERSION:2.0
CALSCALE:GREGORIAN
BEGIN:VEVENT
UID:b3e2c90d83bc1d23affd2a048e523f1a
DTSTAMP:20260420T141655Z
SUMMARY:JRCA VE DAY AND ISRAEL INDEPENDENCE
DESCRIPTION:Jewish Federation of Greater Naples\nCommunity Calendar\nhttps:
 //jewishnaples.org/calendar/jrca-ve-day-and-israel-independence-1683924616
 \n\nCommunity Meal and Celebration of VE DAY and ISRAEL INDEPENDENCE
DTSTART;TZID=America/New_York:20240512T120000
DTEND;TZID=America/New_York:20240512T150000
END:VEVENT
END:VCALENDAR
