BEGIN:VCALENDAR
PRODID:-//eluceo/ical//2.0/EN
VERSION:2.0
CALSCALE:GREGORIAN
BEGIN:VEVENT
UID:1563a58269b67819327be1e8e0bb4988
DTSTAMP:20260423T200615Z
SUMMARY:JRCA VE DAY
DESCRIPTION:Jewish Federation of Greater Naples\nCommunity Calendar\nhttps:
 //jewishnaples.org/calendar/jrca-ve-day-1679006785\n\nJRCA Group Celebrati
 on of May 9 and Victory in Europe Day. Program to be announced.
DTSTART;TZID=America/New_York:20230507T140000
DTEND;TZID=America/New_York:20230507T150000
END:VEVENT
END:VCALENDAR
