BEGIN:VCALENDAR
PRODID:-//eluceo/ical//2.0/EN
VERSION:2.0
CALSCALE:GREGORIAN
BEGIN:VEVENT
UID:9cf93a9dc5cb48727d9cb7b066e841a4
DTSTAMP:20260422T122700Z
SUMMARY:JRCA Rosh Hashanah Event
DESCRIPTION:Jewish Federation of Greater Naples\nCommunity Calendar\nhttps:
 //jewishnaples.org/calendar/jrca-rosh-hashanah-event-1\n\nJewish Russian C
 ultural Alliance
DTSTART;TZID=America/New_York:20180916T150000
DTEND;TZID=America/New_York:20180916T180000
END:VEVENT
END:VCALENDAR
