BEGIN:VCALENDAR
PRODID:-//eluceo/ical//2.0/EN
VERSION:2.0
CALSCALE:GREGORIAN
BEGIN:VEVENT
UID:70bff543ed76d6580e61f21f2e660f43
DTSTAMP:20260423T025559Z
SUMMARY:JRCA Rosh Hashanah
DESCRIPTION:Jewish Federation of Greater Naples\nCommunity Calendar\nhttps:
 //jewishnaples.org/calendar/jrca-rosh-hashanah-1752241367\n\nJRCA Annual R
 osh Hashanah get-together
DTSTART;TZID=America/New_York:20250921T120000
DTEND;TZID=America/New_York:20250921T150000
END:VEVENT
END:VCALENDAR
