BEGIN:VCALENDAR
PRODID:-//eluceo/ical//2.0/EN
VERSION:2.0
CALSCALE:GREGORIAN
BEGIN:VEVENT
UID:89d1c4bcd277da007f2bfcb88cc3b6e3
DTSTAMP:20260423T141546Z
SUMMARY:JRCA Purim Party
DESCRIPTION:Jewish Federation of Greater Naples\nCommunity Calendar\nhttps:
 //jewishnaples.org/calendar/jrca-purim-party-1560873994\n\nJewish Russian 
 Cultural Alliance\nPurim Party
DTSTART;TZID=America/New_York:20200308T150000
DTEND;TZID=America/New_York:20200308T180000
END:VEVENT
END:VCALENDAR
