BEGIN:VCALENDAR
PRODID:-//eluceo/ical//2.0/EN
VERSION:2.0
CALSCALE:GREGORIAN
BEGIN:VEVENT
UID:e878a4091786d6d2e9c844f27851b276
DTSTAMP:20260424T083958Z
SUMMARY:JRCA Purim Party
DESCRIPTION:Jewish Federation of Greater Naples\nCommunity Calendar\nhttps:
 //jewishnaples.org/calendar/jrca-purim-party\n\nJewish Russian Cultural Al
 liance\n\nplease RSVP to: jrcagroup@gmail.com
DTSTART;TZID=America/New_York:20180304T150000
DTEND;TZID=America/New_York:20180304T180000
END:VEVENT
END:VCALENDAR
