BEGIN:VCALENDAR
PRODID:-//eluceo/ical//2.0/EN
VERSION:2.0
CALSCALE:GREGORIAN
BEGIN:VEVENT
UID:97e43850bed4d9b69eccea419aa48fed
DTSTAMP:20260422T164730Z
SUMMARY:JRCA Purim Event
DESCRIPTION:Jewish Federation of Greater Naples\nCommunity Calendar\nhttps:
 //jewishnaples.org/calendar/jrca-purim-event\n\nJewish Russian Cultural Al
 liance\n\nevent at the Jewish Federation of Collier County\n\nContact Emil
 ia at: jrcagroup@gmail.com
DTSTART;TZID=America/New_York:20170305T150000
DTEND;TZID=America/New_York:20170305T180000
END:VEVENT
END:VCALENDAR
