BEGIN:VCALENDAR
PRODID:-//eluceo/ical//2.0/EN
VERSION:2.0
CALSCALE:GREGORIAN
BEGIN:VEVENT
UID:60ff26faad3988abbf1a01a1f231aca6
DTSTAMP:20260424T083438Z
SUMMARY:JRCA Midsummer Social
DESCRIPTION:Jewish Federation of Greater Naples\nCommunity Calendar\nhttps:
 //jewishnaples.org/calendar/jrca-midsummer-social\n\nJewish Russian Cultur
 al Alliance
DTSTART;TZID=America/New_York:20170723T150000
DTEND;TZID=America/New_York:20170723T180000
END:VEVENT
END:VCALENDAR
