BEGIN:VCALENDAR
PRODID:-//eluceo/ical//2.0/EN
VERSION:2.0
CALSCALE:GREGORIAN
BEGIN:VEVENT
UID:b8cb430ddb5c7ed6ca147579f9a892ba
DTSTAMP:20260420T154757Z
SUMMARY:JRCA Hanukkah Party
DESCRIPTION:Jewish Federation of Greater Naples\nCommunity Calendar\nhttps:
 //jewishnaples.org/calendar/jrca-hanukkah-party\n\nJewish Russian Cultural
  Alliance\n\nHanukkah Party\n\n 
DTSTART;TZID=America/New_York:20171217T150000
DTEND;TZID=America/New_York:20171217T180000
END:VEVENT
END:VCALENDAR
