BEGIN:VCALENDAR
PRODID:-//eluceo/ical//2.0/EN
VERSION:2.0
CALSCALE:GREGORIAN
BEGIN:VEVENT
UID:1145668168df3289fbce5031edfc8a0d
DTSTAMP:20260423T212445Z
SUMMARY:JRCA Hanukkah Event
DESCRIPTION:Jewish Federation of Greater Naples\nCommunity Calendar\nhttps:
 //jewishnaples.org/calendar/jrca-hanukkah-event\n\nJewish Russian Cultural
  Alliance\n\nevent at the Jewish Federation of Collier County\n\nContact E
 milia at: jrcagroup@gmail.com
DTSTART;TZID=America/New_York:20161225T150000
DTEND;TZID=America/New_York:20161225T180000
END:VEVENT
END:VCALENDAR
