BEGIN:VCALENDAR
PRODID:-//eluceo/ical//2.0/EN
VERSION:2.0
CALSCALE:GREGORIAN
BEGIN:VEVENT
UID:7e68fa0a4e07219241e4f144f245f7fe
DTSTAMP:20260420T180904Z
SUMMARY:JRCA Event
DESCRIPTION:Jewish Federation of Greater Naples\nCommunity Calendar\nhttps:
 //jewishnaples.org/calendar/jrca-event-1561038091\n\nJewish Russian Cultur
 al Alliance\nVE Day 3-6 pm
DTSTART;TZID=America/New_York:20200510T150000
DTEND;TZID=America/New_York:20200510T180000
END:VEVENT
END:VCALENDAR
