BEGIN:VCALENDAR
PRODID:-//eluceo/ical//2.0/EN
VERSION:2.0
CALSCALE:GREGORIAN
BEGIN:VEVENT
UID:77905235370233228283a5db3bc10461
DTSTAMP:20260422T155417Z
SUMMARY:JRCA Community Get together
DESCRIPTION:Jewish Federation of Greater Naples\nCommunity Calendar\nhttps:
 //jewishnaples.org/calendar/jrca-community-get-together\n\nJRCA Community 
 Get together +screening of IMMIGRATION\, a film about Soviet Jewry
DTSTART;TZID=America/New_York:20170507T150000
DTEND;TZID=America/New_York:20170507T180000
END:VEVENT
END:VCALENDAR
