BEGIN:VCALENDAR
PRODID:-//eluceo/ical//2.0/EN
VERSION:2.0
CALSCALE:GREGORIAN
BEGIN:VEVENT
UID:202d99bebcdbe6ae579150802a7fda08
DTSTAMP:20260422T082710Z
SUMMARY:JRCA Chanukah Event
DESCRIPTION:Jewish Federation of Greater Naples\nCommunity Calendar\nhttps:
 //jewishnaples.org/calendar/jrca-chanukah-event-1537290352\n\nJewish Russi
 an Cultural Alliance Chanukah Party!
DTSTART;TZID=America/New_York:20181230T150000
DTEND;TZID=America/New_York:20181230T180000
END:VEVENT
END:VCALENDAR
