BEGIN:VCALENDAR
PRODID:-//eluceo/ical//2.0/EN
VERSION:2.0
CALSCALE:GREGORIAN
BEGIN:VEVENT
UID:976eabde668678e4d59916f650a57a30
DTSTAMP:20260422T211856Z
SUMMARY:JNF-USA Reading Series
DESCRIPTION:Jewish Federation of Greater Naples\nCommunity Calendar\nhttps:
 //jewishnaples.org/calendar/jnf-usa-reading-series-1621960057\n\nJoin Jewi
 sh National Fund-USA IsraelCast host Steven Shalowitz and author Noa Tishb
 y for a live Q&A session about her book\, Israel: A Simple Guide to the Mo
 st Misunderstood Country on Earth. 
DTSTART;TZID=America/New_York:20210623T190000
DTEND;TZID=America/New_York:20210623T200000
END:VEVENT
END:VCALENDAR
