BEGIN:VCALENDAR
PRODID:-//eluceo/ical//2.0/EN
VERSION:2.0
CALSCALE:GREGORIAN
BEGIN:VEVENT
UID:a46072d94fefd3fde7da2a7fd3990a77
DTSTAMP:20260423T214150Z
SUMMARY:JNF-USA Naples Breakfast for Israel
DESCRIPTION:Jewish Federation of Greater Naples\nCommunity Calendar\nhttps:
 //jewishnaples.org/calendar/jnf-usa-naples-breakfast-for-israel-1725456513
 \n\nJoin fellow Zionists at our annual Breakfast for Israel and learn how 
 we are making a difference for the land and people of Israel. We were ther
 e yesterday\, we are there today\, we will be there tomorrow.
DTSTART;TZID=America/New_York:20241210T091500
DTEND;TZID=America/New_York:20241210T110000
END:VEVENT
END:VCALENDAR
