BEGIN:VCALENDAR
PRODID:-//eluceo/ical//2.0/EN
VERSION:2.0
CALSCALE:GREGORIAN
BEGIN:VEVENT
UID:b3d309a6186366d6259e7c543556c92d
DTSTAMP:20260424T010509Z
SUMMARY:JNF Tree of Life Dinner
DESCRIPTION:Jewish Federation of Greater Naples\nCommunity Calendar\nhttps:
 //jewishnaples.org/calendar/jnf-tree-of-life-dinner-1494533722\n\nTwin Eag
 les Country Club
DTSTART;TZID=America/New_York:20180222T180000
DTEND;TZID=America/New_York:20180222T203000
END:VEVENT
END:VCALENDAR
