BEGIN:VCALENDAR
PRODID:-//eluceo/ical//2.0/EN
VERSION:2.0
CALSCALE:GREGORIAN
BEGIN:VEVENT
UID:6c99f77697954572021b3c8be9e886b0
DTSTAMP:20260423T200340Z
SUMMARY:JNF- Arava Institute
DESCRIPTION:Jewish Federation of Greater Naples\nCommunity Calendar\nhttps:
 //jewishnaples.org/calendar/jnf-arava-institute\n\nJNF\n\nArava Institute
DTSTART;TZID=America/New_York:20171113T190000
DTEND;TZID=America/New_York:20171113T210000
END:VEVENT
END:VCALENDAR
