BEGIN:VCALENDAR
PRODID:-//eluceo/ical//2.0/EN
VERSION:2.0
CALSCALE:GREGORIAN
BEGIN:VEVENT
UID:222e21bbe43a93bbd2b8f8e26eab6cae
DTSTAMP:20260420T024217Z
SUMMARY:JHSSWFL Local Jewish History Film Festival\, Nov. 12
DESCRIPTION:Jewish Federation of Greater Naples\nCommunity Calendar\nhttps:
 //jewishnaples.org/calendar/jhsswfl-local-jewish-history-film-festival-nov
 -12\n\nJHSSWFL Local Jewish History Film Festival\n\n\n\n\n\n\n\n\n\n \n\
 n \n\n \n\n\n\n\n\nSouthwest Florida Jewish Pioneers: Irving Berzon\, En
 gineering the Future\n\nWWII veteran and Collier County visionary discusse
 s why he did what he did and how difficult the road he traveled to his goa
 ls was.\n\n\n\n\n\n\n\n\nBonus Film\n\n \n \n\n\n\n\nSouthwest...
DTSTART;TZID=America/New_York:20251112T170000
DTEND;TZID=America/New_York:20251112T180000
END:VEVENT
END:VCALENDAR
