BEGIN:VCALENDAR
PRODID:-//eluceo/ical//2.0/EN
VERSION:2.0
CALSCALE:GREGORIAN
BEGIN:VEVENT
UID:f877ca7d3b9c7f7429250e98f1d235d4
DTSTAMP:20260421T234957Z
SUMMARY:JHSSWFL Virtual Event
DESCRIPTION:Jewish Federation of Greater Naples\nCommunity Calendar\nhttps:
 //jewishnaples.org/calendar/jhsswfl-event-1583854584\n\nVIRTUAL EVENT. Det
 ails TBA.
DTSTART;TZID=America/New_York:20210107T150000
DTEND;TZID=America/New_York:20210107T163000
END:VEVENT
END:VCALENDAR
