BEGIN:VCALENDAR
PRODID:-//eluceo/ical//2.0/EN
VERSION:2.0
CALSCALE:GREGORIAN
BEGIN:VEVENT
UID:f56577c95dea604de9a0b25121a25d7e
DTSTAMP:20260423T173949Z
SUMMARY:JHSSWF Event
DESCRIPTION:Jewish Federation of Greater Naples\nCommunity Calendar\nhttps:
 //jewishnaples.org/calendar/jhsswfl-event-1565713125\n\nJHSSWF Event\nSout
 hwest Florida Jewish Pioneers Films Premiere\n\nFilms about Irv Berzon and
  Florence Hertzman\n\nLocation: Temple Shalom
DTSTART;TZID=America/New_York:20200206T140000
DTEND;TZID=America/New_York:20200206T160000
END:VEVENT
END:VCALENDAR
