BEGIN:VCALENDAR
PRODID:-//eluceo/ical//2.0/EN
VERSION:2.0
CALSCALE:GREGORIAN
BEGIN:VEVENT
UID:9330c74fa1ee50f50cb8bf0a508cc85d
DTSTAMP:20260422T082431Z
SUMMARY:JHSSWFL Event
DESCRIPTION:Jewish Federation of Greater Naples\nCommunity Calendar\nhttps:
 //jewishnaples.org/calendar/jhsswfl-event-1537290564\n\nSouthwest Florida 
 Jewish Pioneers Film Presentation\nat\nJCMI
DTSTART;TZID=America/New_York:20181028T140000
DTEND;TZID=America/New_York:20181028T160000
END:VEVENT
END:VCALENDAR
