BEGIN:VCALENDAR
PRODID:-//eluceo/ical//2.0/EN
VERSION:2.0
CALSCALE:GREGORIAN
BEGIN:VEVENT
UID:8d317394ea424d15d4fefaeddb09edf6
DTSTAMP:20260422T021007Z
SUMMARY:JHSSWF Timelines SWFL Jewish History (Zoom) Part Ii
DESCRIPTION:Jewish Federation of Greater Naples\nCommunity Calendar\nhttps:
 //jewishnaples.org/calendar/jhsswf-timelines-swfl-jewish-history-zoom-part
 -ii-1689780163\n\nJewish Historical Society of SWFL presentation "Timeline
 s of SWFL Jewish History\, Part Ii". This event will be on Zoom. It has be
 en some time since we last presented this information.\, so even if you he
 ard it before\, as more time passes\, we know more about our brief\, but f
 ascinating SWFL Jewish history\, and we cannot wait to share it with you. 
 *If you are new to SWFL\, this is a perfect presentation for you. FREE EVE
 NT.  **Participation and/or attendance of Part I is not a prerequisite.
DTSTART;TZID=America/New_York:20230803T140000
DTEND;TZID=America/New_York:20230803T150000
END:VEVENT
END:VCALENDAR
