BEGIN:VCALENDAR
PRODID:-//eluceo/ical//2.0/EN
VERSION:2.0
CALSCALE:GREGORIAN
BEGIN:VEVENT
UID:a150d05381aa5c22922eabcaa13bfc98
DTSTAMP:20260422T082101Z
SUMMARY:JHSSWF Synchronized Swimming Team
DESCRIPTION:Jewish Federation of Greater Naples\nCommunity Calendar\nhttps:
 //jewishnaples.org/calendar/jhsswf-synchronized-swimming-team\n\nEveryone 
 is welcomed to attend. T2 Aquatics pool near the Community School.
DTSTART;TZID=America/New_York:20160721T133000
DTEND;TZID=America/New_York:20160721T133000
END:VEVENT
END:VCALENDAR
