BEGIN:VCALENDAR
PRODID:-//eluceo/ical//2.0/EN
VERSION:2.0
CALSCALE:GREGORIAN
BEGIN:VEVENT
UID:cac4f9a712318ef01813b05cdf7deea1
DTSTAMP:20260423T010822Z
SUMMARY:JHSSWF Masterclass
DESCRIPTION:Jewish Federation of Greater Naples\nCommunity Calendar\nhttps:
 //jewishnaples.org/calendar/jhsswf-masterclass-1591025322\n\nJHSSWF Master
 class
DTSTART;TZID=America/New_York:20200628T150000
DTEND;TZID=America/New_York:20200628T170000
END:VEVENT
END:VCALENDAR
