BEGIN:VCALENDAR
PRODID:-//eluceo/ical//2.0/EN
VERSION:2.0
CALSCALE:GREGORIAN
BEGIN:VEVENT
UID:4a8b8c25cba9bf6ab34dd99ec4c1f34e
DTSTAMP:20260420T022402Z
SUMMARY:JHSSWF GOLDEN NIGHT
DESCRIPTION:Jewish Federation of Greater Naples\nCommunity Calendar\nhttps:
 //jewishnaples.org/calendar/jhsswf-golden-night-1704910940\n\nGOLDEN NIGHT
 \na celebration concert with reception and performance of\nAlexander Golds
 tein’s chamber music works\n\nSaturday\, February 10\, at 7:30 p.m\ntick
 ets: https://www.artsplanetnaples.org/tickets.html\nfor recording sponsors
 hip: contact JHSSWF@gmail.com or call 646-330-7551
DTSTART;TZID=America/New_York:20240210T193000
DTEND;TZID=America/New_York:20240210T213000
END:VEVENT
END:VCALENDAR
