BEGIN:VCALENDAR
PRODID:-//eluceo/ical//2.0/EN
VERSION:2.0
CALSCALE:GREGORIAN
BEGIN:VEVENT
UID:16b1f3242b83c626481a9061b7dd62c4
DTSTAMP:20260420T122930Z
SUMMARY:JHSSWF FL Annual Jewish History Month Celebration Event
DESCRIPTION:Jewish Federation of Greater Naples\nCommunity Calendar\nhttps:
 //jewishnaples.org/calendar/jhsswf-fl-annual-jewish-history-month-celebrat
 ion-event\n\nJHSSWF FL Annual Jewish History Month Celebration Event 
DTSTART;TZID=America/New_York:20250114T150000
DTEND;TZID=America/New_York:20250114T170000
END:VEVENT
END:VCALENDAR
