BEGIN:VCALENDAR
PRODID:-//eluceo/ical//2.0/EN
VERSION:2.0
CALSCALE:GREGORIAN
BEGIN:VEVENT
UID:df628e6237decfb4d4ae8df3becb992c
DTSTAMP:20260422T224153Z
SUMMARY:JHSSWF
DESCRIPTION:Jewish Federation of Greater Naples\nCommunity Calendar\nhttps:
 //jewishnaples.org/calendar/jhsswf-1633370560\n\nThe Jewish Historical Soc
 iety of Southwest Florida
DTSTART;TZID=America/New_York:20211102T140000
DTEND;TZID=America/New_York:20211102T150000
END:VEVENT
END:VCALENDAR
