BEGIN:VCALENDAR
PRODID:-//eluceo/ical//2.0/EN
VERSION:2.0
CALSCALE:GREGORIAN
BEGIN:VEVENT
UID:05353356e3b6585220a29ed3f762cbad
DTSTAMP:20260423T211542Z
SUMMARY:JFGN Young Jewish Professionals
DESCRIPTION:Jewish Federation of Greater Naples\nCommunity Calendar\nhttps:
 //jewishnaples.org/calendar/jfgn-young-jewish-professionals-1622730221\n\n
 Young Jewish Professionals
DTSTART;TZID=America/New_York:20210714T180000
DTEND;TZID=America/New_York:20210714T200000
END:VEVENT
END:VCALENDAR
