BEGIN:VCALENDAR
PRODID:-//eluceo/ical//2.0/EN
VERSION:2.0
CALSCALE:GREGORIAN
BEGIN:VEVENT
UID:e690a32e61d46981739c9813220dc7be
DTSTAMP:20260419T232048Z
SUMMARY:JFGN Young Jewish Professional Event
DESCRIPTION:Jewish Federation of Greater Naples\nCommunity Calendar\nhttps:
 //jewishnaples.org/calendar/jfgn-young-jewish-professional-event-159431642
 3\n\nJFGN\nMeet and Greet
DTSTART;TZID=America/New_York:20200827T180000
DTEND;TZID=America/New_York:20200827T183000
END:VEVENT
END:VCALENDAR
