BEGIN:VCALENDAR
PRODID:-//eluceo/ical//2.0/EN
VERSION:2.0
CALSCALE:GREGORIAN
BEGIN:VEVENT
UID:faca870bd59c78b70f3affc051a82ad7
DTSTAMP:20260422T192340Z
SUMMARY:JFGN What is the best age?
DESCRIPTION:Jewish Federation of Greater Naples\nCommunity Calendar\nhttps:
 //jewishnaples.org/calendar/jfgn-what-is-the-best-age-1593110344\n\nJewish
  Federation of Greater Naples program
DTSTART;TZID=America/New_York:20200708T130000
DTEND;TZID=America/New_York:20200708T133000
END:VEVENT
END:VCALENDAR
