BEGIN:VCALENDAR
PRODID:-//eluceo/ical//2.0/EN
VERSION:2.0
CALSCALE:GREGORIAN
BEGIN:VEVENT
UID:b7adc14f5e4f69fa355fb9a7adefb2cd
DTSTAMP:20260420T133745Z
SUMMARY:JFGN VIRTUAL TRIP TO THE WONDERS OF THE NEGEV
DESCRIPTION:Jewish Federation of Greater Naples\nCommunity Calendar\nhttps:
 //jewishnaples.org/calendar/jfgn-virtual-trip-to-the-wonders-of-the-negev-
 1611946306\n\nVIRTUAL TRIP TO THE WONDERS OF THE NEGEV\nvia Zoom\, to the 
 Negev in Israel guided by World Famous naturalist and expert on scorpions\
 , Yuram Zvik. You will hopefully see the Hoopoe\, national bird of Israel\
 , and other unique creatures of this desert region. Yuram will most certai
 nly show you some of his amazing scorpions\, as well as the Makhtesh Yeurh
 am and Cloud Surfing.
DTSTART;TZID=America/New_York:20210323T100000
DTEND;TZID=America/New_York:20210323T110000
END:VEVENT
END:VCALENDAR
