BEGIN:VCALENDAR
PRODID:-//eluceo/ical//2.0/EN
VERSION:2.0
CALSCALE:GREGORIAN
BEGIN:VEVENT
UID:a4082474407c7c54d7bdcf5f24203cf5
DTSTAMP:20260423T042712Z
SUMMARY:JFGN Virtual Israel Tour
DESCRIPTION:Jewish Federation of Greater Naples\nCommunity Calendar\nhttps:
 //jewishnaples.org/calendar/jfgn-virtual-israel-tour-1589992113\n\nJewish 
 Federation of Greater Naples\nJoin us while we go on a live virtual tour!
DTSTART;TZID=America/New_York:20200624T110000
DTEND;TZID=America/New_York:20200624T120000
END:VEVENT
END:VCALENDAR
