BEGIN:VCALENDAR
PRODID:-//eluceo/ical//2.0/EN
VERSION:2.0
CALSCALE:GREGORIAN
BEGIN:VEVENT
UID:559a9e3dea98fdd1c1b19517145373f2
DTSTAMP:20260422T184840Z
SUMMARY:JFGN Understanding Senior Housing in SWFL
DESCRIPTION:Jewish Federation of Greater Naples\nCommunity Calendar\nhttps:
 //jewishnaples.org/calendar/jfgn-understanding-senior-housing-in-swfl-1595
 423072\n\nUnderstanding Senior Housing in SWFL\n\nGuest presenter: Bruce B
 . Rosenblatt\nSenior Housing Solutions\, Owner/Senior Housing Expert\n\nTu
 esday\, August 18\n10:00-11:00 am\nRegister Here\n 
DTSTART;TZID=America/New_York:20200818T100000
DTEND;TZID=America/New_York:20200818T110000
END:VEVENT
END:VCALENDAR
