BEGIN:VCALENDAR
PRODID:-//eluceo/ical//2.0/EN
VERSION:2.0
CALSCALE:GREGORIAN
BEGIN:VEVENT
UID:cc585439d37769df0d75169ee7276fbd
DTSTAMP:20260420T073731Z
SUMMARY:Trivia Night
DESCRIPTION:Jewish Federation of Greater Naples\nCommunity Calendar\nhttps:
 //jewishnaples.org/calendar/jfgn-trivia-night-1686073425\n\nJoin us for Tr
 ivia Night! Register here
DTSTART;TZID=America/New_York:20230823T190000
DTEND;TZID=America/New_York:20230823T210000
END:VEVENT
END:VCALENDAR
