BEGIN:VCALENDAR
PRODID:-//eluceo/ical//2.0/EN
VERSION:2.0
CALSCALE:GREGORIAN
BEGIN:VEVENT
UID:0b0879c6ff0e69baacf4615a5368228c
DTSTAMP:20260423T230113Z
SUMMARY:JFGN  Game Night
DESCRIPTION:Jewish Federation of Greater Naples\nCommunity Calendar\nhttps:
 //jewishnaples.org/calendar/jfgn-trivia-game-night-1620667298\n\nJFGN Triv
 ia Game Night
DTSTART;TZID=America/New_York:20210913T190000
DTEND;TZID=America/New_York:20210913T200000
END:VEVENT
END:VCALENDAR
