BEGIN:VCALENDAR
PRODID:-//eluceo/ical//2.0/EN
VERSION:2.0
CALSCALE:GREGORIAN
BEGIN:VEVENT
UID:6a167594db279dfab4161f1fec73cb28
DTSTAMP:20260424T045235Z
SUMMARY:JFGN Trivia Game Night
DESCRIPTION:Jewish Federation of Greater Naples\nCommunity Calendar\nhttps:
 //jewishnaples.org/calendar/jfgn-trivia-game-night-1620666911\n\nJFGN Triv
 ia Game Night
DTSTART;TZID=America/New_York:20210712T190000
DTEND;TZID=America/New_York:20210712T200000
END:VEVENT
END:VCALENDAR
