BEGIN:VCALENDAR
PRODID:-//eluceo/ical//2.0/EN
VERSION:2.0
CALSCALE:GREGORIAN
BEGIN:VEVENT
UID:dad804cebdeed8fae9e0ebb42cbb8657
DTSTAMP:20260423T205649Z
SUMMARY:JFGN TOP Webinar
DESCRIPTION:Jewish Federation of Greater Naples\nCommunity Calendar\nhttps:
 //jewishnaples.org/calendar/jfgn-top-webinar-1594220072\n\nRegister Here.
DTSTART;TZID=America/New_York:20200728T120000
DTEND;TZID=America/New_York:20200728T130000
END:VEVENT
END:VCALENDAR
