BEGIN:VCALENDAR
PRODID:-//eluceo/ical//2.0/EN
VERSION:2.0
CALSCALE:GREGORIAN
BEGIN:VEVENT
UID:9bc4be914ecae7331c0555584896bd96
DTSTAMP:20260423T040225Z
SUMMARY:JFGN TED Talks Program
DESCRIPTION:Jewish Federation of Greater Naples\nCommunity Calendar\nhttps:
 //jewishnaples.org/calendar/jfgn-ted-talks-program-1625147649\n\nJFGN Zoom
  program
DTSTART;TZID=America/New_York:20210823T130000
DTEND;TZID=America/New_York:20210823T140000
END:VEVENT
END:VCALENDAR
