BEGIN:VCALENDAR
PRODID:-//eluceo/ical//2.0/EN
VERSION:2.0
CALSCALE:GREGORIAN
BEGIN:VEVENT
UID:5202a7c87f626a509ca698341b2e0be8
DTSTAMP:20260423T113007Z
SUMMARY:JFGN Summer Book Discussion
DESCRIPTION:Jewish Federation of Greater Naples\nCommunity Calendar\nhttps:
 //jewishnaples.org/calendar/jfgn-summer-book-discussion-1678476439\n\nJoin
  Rachel Barenbaum\, Author of Atomic Anna!\n\n \n\nEach author will be Zo
 oming in. Attendees can attend in person at the Nina Iser Jewish Cultural 
 Center or attend via Zoom.\n\n \n\nPlease register for one or all book di
 scussions HERE\n\nFree program for all.
DTSTART;TZID=America/New_York:20230830T110000
DTEND;TZID=America/New_York:20230830T120000
END:VEVENT
END:VCALENDAR
