BEGIN:VCALENDAR
PRODID:-//eluceo/ical//2.0/EN
VERSION:2.0
CALSCALE:GREGORIAN
BEGIN:VEVENT
UID:a1275c334fd7eb8da03c721df58e467b
DTSTAMP:20260422T082319Z
SUMMARY:JFGN Summer Book Discussion
DESCRIPTION:Jewish Federation of Greater Naples\nCommunity Calendar\nhttps:
 //jewishnaples.org/calendar/jfgn-summer-book-discussion-1678476394\n\nWein
 a Dai Randel author of The Last Rose of Shanghai
DTSTART;TZID=America/New_York:20230726T110000
DTEND;TZID=America/New_York:20230726T120000
END:VEVENT
END:VCALENDAR
