BEGIN:VCALENDAR
PRODID:-//eluceo/ical//2.0/EN
VERSION:2.0
CALSCALE:GREGORIAN
BEGIN:VEVENT
UID:89b98f261bcca946e6ca343d26c70fbc
DTSTAMP:20260422T134813Z
SUMMARY:JFGN Summer Book Club
DESCRIPTION:Jewish Federation of Greater Naples\nCommunity Calendar\nhttps:
 //jewishnaples.org/calendar/jfgn-summer-book-club-1654619417\n\nJoin us on
  Zoom with author R.L. Maizes
DTSTART;TZID=America/New_York:20220921T110000
DTEND;TZID=America/New_York:20220921T113000
END:VEVENT
END:VCALENDAR
